BEGIN:VCALENDAR
VERSION:2.0
PRODID:-//BC Randonneurs Cycling Club - ECPv6.15.20//NONSGML v1.0//EN
CALSCALE:GREGORIAN
METHOD:PUBLISH
X-ORIGINAL-URL:https://randonneurs.bc.ca
X-WR-CALDESC:Events for BC Randonneurs Cycling Club
REFRESH-INTERVAL;VALUE=DURATION:PT1H
X-Robots-Tag:noindex
X-PUBLISHED-TTL:PT1H
BEGIN:VTIMEZONE
TZID:America/Vancouver
BEGIN:DAYLIGHT
TZOFFSETFROM:-0800
TZOFFSETTO:-0700
TZNAME:PDT
DTSTART:20240310T100000
END:DAYLIGHT
BEGIN:STANDARD
TZOFFSETFROM:-0700
TZOFFSETTO:-0800
TZNAME:PST
DTSTART:20241103T090000
END:STANDARD
BEGIN:DAYLIGHT
TZOFFSETFROM:-0800
TZOFFSETTO:-0700
TZNAME:PDT
DTSTART:20250309T100000
END:DAYLIGHT
BEGIN:STANDARD
TZOFFSETFROM:-0700
TZOFFSETTO:-0800
TZNAME:PST
DTSTART:20251102T090000
END:STANDARD
BEGIN:DAYLIGHT
TZOFFSETFROM:-0800
TZOFFSETTO:-0700
TZNAME:PDT
DTSTART:20260308T100000
END:DAYLIGHT
BEGIN:STANDARD
TZOFFSETFROM:-0700
TZOFFSETTO:-0800
TZNAME:PST
DTSTART:20261101T090000
END:STANDARD
END:VTIMEZONE
BEGIN:VEVENT
DTSTART;TZID=America/Vancouver:20251005T104500
DTEND;TZID=America/Vancouver:20251005T130000
DTSTAMP:20260422T060444
CREATED:20250523T182927Z
LAST-MODIFIED:20251102T041215Z
UID:928-1759661100-1759669200@randonneurs.bc.ca
SUMMARY:2025 Annual General Meeting
DESCRIPTION:Coast Tsawwassen Inn & online via GoogleMeet2024 Organizer: Anna Bonga \n\n\n\nAGM: 10:30 am Doors Open11:00 am Brunch ($20 Cash)12:00 am Business Meeting \n\n\n\n2024 Social Ride: 8:30 to ~10:15 am\,Organizer: Ron StewartRoute–> GoSocial Ride gathers at Coastal Tsawwassen Inn (the AGM meeting location) \n\n\n\nMembers wishing to attend the 2024 AGM are required to REGISTER IN ADVANCE using this AGM Registration Form by Friday\, October 4. Be sure to register with the email address associated with your BCR membership. If you are attending by GoogleMeet\, you will be sent a meeting link prior to the October 6 meeting. \n\n\n\nQuestions? Contact: Anna (AGM) or Ron (Ride)
URL:https://randonneurs.bc.ca/event/2025-annual-general-meeting/
LOCATION:Coast Tsawwassen Inn\, 1665 56 Street\, Delta\, BC\, Canada
ATTACH;FMTTYPE=image/heic:https://files.randonneurs.bc.ca/wp-content/uploads/2025/05/IMG_4275.heic
ORGANIZER;CN="Anna Bonga":MAILTO:annbong3@gmail.com
END:VEVENT
END:VCALENDAR